BEGIN:VCALENDAR
VERSION:2.0
CALSCALE:GREGORIAN
BEGIN:VEVENT
UID:69ecbeae31d88
X-MICROSOFT-CDO-BUSYSTATUS:FREE
DTSTAMP:
LOCATION:na Romance TV Polska
DESCRIPTION:Juna\, cukierniczka mieszkająca z córką Idą w Sztokholmie\, rzuciła pracę za względu na swojego gburowatego szefa. Niedługo potem dzwoni do niej mieszkający na prowincji wuj Nils\, który złamał sobie rękę i pilnie potrzebuje pomocy w piekarni. Juna spotyka Emila\, swoją młodzieńczą miłość\, oraz Vigga\, swojego byłego partnera i ojca Idy.
SUMMARY:Inga Lindström: Słodycz życia
DTSTART;TZID="(GMT+01.00) Amsterdam / Berlin / Bern / Rome / Stockholm / Vienna":20260604T200000
DTEND;TZID="(GMT+01.00) Amsterdam / Berlin / Bern / Rome / Stockholm / Vienna":20260604T213500
BEGIN:VALARM
TRIGGER:-PT60M
ACTION:DISPLAY
DESCRIPTION:Reminder
END:VALARM
END:VEVENT
END:VCALENDAR
