BEGIN:VCALENDAR
VERSION:2.0
CALSCALE:GREGORIAN
BEGIN:VEVENT
UID:69ecbe6140e7f
X-MICROSOFT-CDO-BUSYSTATUS:FREE
DTSTAMP:
LOCATION:na Romance TV Polska
DESCRIPTION:Szef renomowanej\, szwedzkiej stoczni jest od kilku skłócony ze swoją najstarszą córką Lindą\, która nie chce przejąć firmy\, ponieważ bardziej interesuje ją praca w Muzeum Żeglugi. Głowa rodziny postanawia więc uczynić swoją spadkobierczynią młodszą z córek. Ale ona też ma zupełnie inne plany\, które mogą nawet doprowadzić do rozwodu z dawną\, wielką miłością Lindy.
SUMMARY:Inga Lindström: Spotkanie nad morzem
DTSTART;TZID="(GMT+01.00) Amsterdam / Berlin / Bern / Rome / Stockholm / Vienna":20260612T010500
DTEND;TZID="(GMT+01.00) Amsterdam / Berlin / Bern / Rome / Stockholm / Vienna":20260612T024500
BEGIN:VALARM
TRIGGER:-PT60M
ACTION:DISPLAY
DESCRIPTION:Reminder
END:VALARM
END:VEVENT
END:VCALENDAR
