BEGIN:VCALENDAR
VERSION:2.0
CALSCALE:GREGORIAN
BEGIN:VEVENT
UID:69ecbe193cbb2
X-MICROSOFT-CDO-BUSYSTATUS:FREE
DTSTAMP:
LOCATION:na Romance TV Polska
DESCRIPTION:Lilly nie dziedziczy sama domu swojego dziadka. Część spadku dostaje jej dawny znajomy\, Sylvester. Powracają konflikty z czasów dzieciństwa. Lilly i Sylvester muszą się zmierzyć ze swoją wspólną przeszłością.
SUMMARY:Inga Lindström: Śmiertelny wróg
DTSTART;TZID="(GMT+01.00) Amsterdam / Berlin / Bern / Rome / Stockholm / Vienna":20260618T200000
DTEND;TZID="(GMT+01.00) Amsterdam / Berlin / Bern / Rome / Stockholm / Vienna":20260618T213500
BEGIN:VALARM
TRIGGER:-PT60M
ACTION:DISPLAY
DESCRIPTION:Reminder
END:VALARM
END:VEVENT
END:VCALENDAR
